{"text_format":"1","workbook":"xlsx","n_sheets":2,"sheets":["提出用","控用"],"not_rendered":{"charts":0,"images":0,"macros":1,"external_links":0,"defined_names":2,"comments":0,"pivot_tables":0},"unopened":[],"bounds":{"document_bytes":16777216,"sheet_cells":100000,"rows_first":2000,"rows_last":500,"rows_between":2000,"halvings":0,"cell_chars":16384,"cell_head_chars":4096},"cells_cut":0,"cells_raw":0,"read":"whole","date_system":"1900"}

{"sheet":"提出用","index":0,"n_rows":73,"n_cols":69,"rows_kept":73,"cut":false,"hidden":false,"merged":[[70,44,71,57],[70,58,71,59],[72,0,76,2],[72,3,76,47],[72,48,76,51],[72,52,76,59],[68,44,69,57],[68,58,69,59],[70,0,71,2],[70,3,71,11],[70,12,71,13],[70,14,71,27],[70,28,71,29],[70,30,71,32],[70,33,71,41],[70,42,71,43],[66,12,67,13],[66,14,67,27],[66,28,67,29],[66,30,67,32],[66,33,67,41],[66,42,67,43],[66,44,67,57],[66,58,67,59],[68,0,69,2],[68,3,69,11],[68,12,69,13],[68,14,69,27],[68,28,69,29],[68,30,69,32],[68,33,69,41],[68,42,69,43],[60,58,61,59],[61,63,67,66],[62,0,63,2],[62,3,63,11],[62,12,63,13],[62,14,63,27],[62,28,63,29],[62,30,63,32],[62,33,63,41],[62,42,63,43],[62,44,63,57],[62,58,63,59],[64,0,65,2],[64,3,65,11],[64,12,65,13],[64,14,65,27],[64,28,65,29],[64,30,65,32],[64,33,65,41],[64,42,65,43],[64,44,65,57],[64,58,65,59],[66,0,67,2],[66,3,67,11],[60,0,61,2],[60,3,61,11],[60,12,61,13],[60,14,61,27],[60,28,61,29],[60,30,61,32],[60,33,61,41],[60,42,61,43],[60,44,61,57],[56,58,57,59],[58,0,59,2],[58,3,59,11],[58,12,59,13],[58,14,59,27],[58,28,59,29],[58,30,59,32],[58,33,59,41],[58,42,59,43],[58,44,59,57],[58,58,59,59],[56,0,57,2],[56,3,57,11],[56,12,57,13],[56,14,57,27],[56,28,57,29],[56,30,57,32],[56,33,57,41],[56,42,57,43],[56,44,57,57],[52,58,53,59],[54,0,55,2],[54,3,55,11],[54,12,55,13],[54,14,55,27],[54,28,55,29],[54,30,55,32],[54,33,55,41],[54,42,55,43],[54,44,55,57],[54,58,55,59],[52,0,53,2],[52,3,53,11],[52,12,53,13],[52,14,53,27],[52,28,53,29],[52,30,53,32],[52,33,53,41],[52,42,53,43],[52,44,53,57],[48,58,49,59],[50,0,51,2],[50,3,51,11],[50,12,51,13],[50,14,51,27],[50,28,51,29],[50,30,51,32],[50,33,51,41],[50,42,51,43],[50,44,51,57],[50,58,51,59],[48,0,49,2],[48,3,49,11],[48,12,49,13],[48,14,49,27],[48,28,49,29],[48,30,49,32],[48,33,49,41],[48,42,49,43],[48,44,49,57],[44,58,45,59],[46,0,47,2],[46,3,47,11],[46,12,47,13],[46,14,47,27],[46,28,47,29],[46,30,47,32],[46,33,47,41],[46,42,47,43],[46,44,47,57],[46,58,47,59],[44,0,45,2],[44,3,45,11],[44,12,45,13],[44,14,45,27],[44,28,45,29],[44,30,45,32],[44,33,45,41],[44,42,45,43],[44,44,45,57],[40,58,41,59],[42,0,43,2],[42,3,43,11],[42,12,43,13],[42,14,43,27],[42,28,43,29],[42,30,43,32],[42,33,43,41],[42,42,43,43],[42,44,43,57],[42,58,43,59],[40,0,41,2],[40,3,41,11],[40,12,41,13],[40,14,41,27],[40,28,41,29],[40,30,41,32],[40,33,41,41],[40,42,41,43],[40,44,41,57],[35,14,37,20],[35,21,37,24],[35,25,37,26],[35,27,37,30],[35,31,37,50],[38,0,39,2],[38,3,39,13],[38,14,39,29],[38,30,39,32],[38,33,39,43],[38,44,39,59],[28,0,30,16],[28,17,30,39],[28,40,30,45],[28,46,30,59],[32,1,33,4],[32,5,33,10],[32,11,33,41],[25,0,27,9],[25,10,27,27],[25,28,27,29],[25,30,27,39],[25,40,27,57],[25,58,27,59],[8,43,10,44],[8,45,10,46],[21,0,24,9],[21,10,22,29],[21,30,24,39],[21,40,22,59],[23,10,24,29],[23,40,24,59],[11,1,12,58],[13,1,15,58],[17,0,20,9],[17,10,20,29],[17,30,20,39],[17,40,18,59],[19,40,20,59],[0,0,0,59],[0,60,8,62],[1,39,2,43],[1,44,2,46],[1,47,2,48],[1,49,2,51],[1,52,2,53],[1,54,2,56],[1,57,2,58],[3,1,4,13],[8,47,10,48],[8,49,10,50],[8,51,10,52],[8,53,10,54],[8,55,10,56],[8,57,10,58],[4,20,6,32],[4,33,6,58],[8,20,10,32],[8,33,10,34],[8,35,10,36],[8,37,10,38],[8,39,10,40],[8,41,10,42]]}
["入 湯 税 納 入 申 告 書",null,null,null,null,null,null,null,null,null,null,null,null,null,null,null,null,null,null,null,null,null,null,null,null,null,null,null,null,null,null,null,null,null,null,null,null,null,null,null,null,null,null,null,null,null,null,null,null,null,null,null,null,null,null,null,null,null,null,null,"（提出用）"]
[null,null,null,null,null,null,null,null,null,null,null,null,null,null,null,null,null,null,null,null,null,null,null,null,null,null,null,null,null,null,null,null,null,null,null,null,null,null,null,null,null,null,null,null,null,null,null,"年",null,null,null,null,"月",null,null,null,null,"日"]
[]
[null,"秋田県仙北市長　様"]
[null,null,null,null,null,null,null,null,null,null,null,null,null,null,null,null,null,null,null,null,"特別徴収義務者氏名"]
[]
[]
[]
[null,null,null,null,null,null,null,null,null,null,null,null,null,null,null,null,null,null,null,null,"個人番号又は法人番号"]
[]
[]
[null,"仙北市市税条例第137条第3項の規定により、入湯税の納入について申告します。"]
[]
[null,"※特別徴収義務者は、毎月末日までに前月１日から同月末日までに徴収すべき入湯税に係る課税標準額、税額その他必要な事項を記載した納入申告書を市長に提出し、及びその納入金を納入書によって納入しなければならない。"]
[]
[]
[]
["営業種類",null,null,null,null,null,null,null,null,null,null,null,null,null,null,null,null,null,null,null,null,null,null,null,null,null,null,null,null,null,"施設名称　　　　　　　　　　　　　　　　　　　　　　　　　　　　　　　　　　　　　　　　　　　　　　　　　　　　　　　　　　　　　　　　　　　　　　　　　"]
[]
[]
[]
["営業所在地",null,null,null,null,null,null,null,null,null,null,null,null,null,null,null,null,null,null,null,null,null,null,null,null,null,null,null,null,null,"営業主の\n住所氏名"]
[]
[]
[]
["課税標準",null,null,null,null,null,null,null,null,null,{"$f":"IF(AH71=0,\"\",AH71)","v":""},null,null,null,null,null,null,null,null,null,null,null,null,null,null,null,null,null,"人",null,"税      額",null,null,null,null,null,null,null,null,null,{"$f":"IF(AS71=0,\"\",AS71)","v":""},null,null,null,null,null,null,null,null,null,null,null,null,null,null,null,null,null,"円"]
[]
[]
["この申告に応対する方の氏名",null,null,null,null,null,null,null,null,null,null,null,null,null,null,null,null,null,null,null,null,null,null,null,null,null,null,null,null,null,null,null,null,null,null,null,null,null,null,null,"電話番号"]
[]
[]
[]
[null,"下記",null,null,null,null,null,null,null,null,null,"部分に数値を入力してください。"]
[]
[]
[null,null,null,null,null,null,null,null,null,null,null,null,null,null,null,null,null,null,null,null,null,null,null,null,null,"年",null,null,null,null,null,"月分入湯税納入明細書"]
[]
[]
["日",null,null,"課税標準",null,null,null,null,null,null,null,null,null,null,"税額",null,null,null,null,null,null,null,null,null,null,null,null,null,null,null,"日",null,null,"課税標準",null,null,null,null,null,null,null,null,null,null,"税額"]
[]
[1,null,null,null,null,null,null,null,null,null,null,null,"人",null,{"$f":"D41*150","v":0},null,null,null,null,null,null,null,null,null,null,null,null,null,"円",null,17,null,null,null,null,null,null,null,null,null,null,null,"人",null,{"$f":"AH41*150","v":0},null,null,null,null,null,null,null,null,null,null,null,null,null,"円"]
[]
[2,null,null,null,null,null,null,null,null,null,null,null,null,null,{"$f":"D43*150","v":0},null,null,null,null,null,null,null,null,null,null,null,null,null,null,null,18,null,null,null,null,null,null,null,null,null,null,null,null,null,{"$f":"AH43*150","v":0}]
[]
[3,null,null,null,null,null,null,null,null,null,null,null,null,null,{"$f":"D45*150","v":0},null,null,null,null,null,null,null,null,null,null,null,null,null,null,null,19,null,null,null,null,null,null,null,null,null,null,null,null,null,{"$f":"AH45*150","v":0}]
[]
[4,null,null,null,null,null,null,null,null,null,null,null,null,null,{"$f":"D47*150","v":0},null,null,null,null,null,null,null,null,null,null,null,null,null,null,null,20,null,null,null,null,null,null,null,null,null,null,null,null,null,{"$f":"AH47*150","v":0}]
[]
[5,null,null,null,null,null,null,null,null,null,null,null,null,null,{"$f":"D49*150","v":0},null,null,null,null,null,null,null,null,null,null,null,null,null,null,null,21,null,null,null,null,null,null,null,null,null,null,null,null,null,{"$f":"AH49*150","v":0}]
[]
[6,null,null,null,null,null,null,null,null,null,null,null,null,null,{"$f":"D51*150","v":0},null,null,null,null,null,null,null,null,null,null,null,null,null,null,null,22,null,null,null,null,null,null,null,null,null,null,null,null,null,{"$f":"AH51*150","v":0}]
[]
[7,null,null,null,null,null,null,null,null,null,null,null,null,null,{"$f":"D53*150","v":0},null,null,null,null,null,null,null,null,null,null,null,null,null,null,null,23,null,null,null,null,null,null,null,null,null,null,null,null,null,{"$f":"AH53*150","v":0}]
[]
[8,null,null,null,null,null,null,null,null,null,null,null,null,null,{"$f":"D55*150","v":0},null,null,null,null,null,null,null,null,null,null,null,null,null,null,null,24,null,null,null,null,null,null,null,null,null,null,null,null,null,{"$f":"AH55*150","v":0}]
[]
[9,null,null,null,null,null,null,null,null,null,null,null,null,null,{"$f":"D57*150","v":0},null,null,null,null,null,null,null,null,null,null,null,null,null,null,null,25,null,null,null,null,null,null,null,null,null,null,null,null,null,{"$f":"AH57*150","v":0}]
[null,null,null,null,null,null,null,null,null,null,null,null,null,null,null,null,null,null,null,null,null,null,null,null,null,null,null,null,null,null,null,null,null,null,null,null,null,null,null,null,null,null,null,null,null,null,null,null,null,null,null,null,null,null,null,null,null,null,null,null,null,null,null,null,null,null,null,null,{"$f":"SUM(D41:L72)","v":0}]
[10,null,null,null,null,null,null,null,null,null,null,null,null,null,{"$f":"D59*150","v":0},null,null,null,null,null,null,null,null,null,null,null,null,null,null,null,26,null,null,null,null,null,null,null,null,null,null,null,null,null,{"$f":"AH59*150","v":0},null,null,null,null,null,null,null,null,null,null,null,null,null,null,null,null,null,null,null,null,null,null,null,{"$f":"SUM(AH41:AP70)","v":0}]
[]
[11,null,null,null,null,null,null,null,null,null,null,null,null,null,{"$f":"D61*150","v":0},null,null,null,null,null,null,null,null,null,null,null,null,null,null,null,27,null,null,null,null,null,null,null,null,null,null,null,null,null,{"$f":"AH61*150","v":0}]
[null,null,null,null,null,null,null,null,null,null,null,null,null,null,null,null,null,null,null,null,null,null,null,null,null,null,null,null,null,null,null,null,null,null,null,null,null,null,null,null,null,null,null,null,null,null,null,null,null,null,null,null,null,null,null,null,null,null,null,null,null,null,null,"入力が終わったら印刷ボタンを押してください。\n提出用及び控用が印刷されます。"]
[12,null,null,null,null,null,null,null,null,null,null,null,null,null,{"$f":"D63*150","v":0},null,null,null,null,null,null,null,null,null,null,null,null,null,null,null,28,null,null,null,null,null,null,null,null,null,null,null,null,null,{"$f":"AH63*150","v":0}]
[]
[13,null,null,null,null,null,null,null,null,null,null,null,null,null,{"$f":"D65*150","v":0},null,null,null,null,null,null,null,null,null,null,null,null,null,null,null,29,null,null,null,null,null,null,null,null,null,null,null,null,null,{"$f":"AH65*150","v":0}]
[]
[14,null,null,null,null,null,null,null,null,null,null,null,null,null,{"$f":"D67*150","v":0},null,null,null,null,null,null,null,null,null,null,null,null,null,null,null,30,null,null,null,null,null,null,null,null,null,null,null,null,null,{"$f":"AH67*150","v":0}]
[]
[15,null,null,null,null,null,null,null,null,null,null,null,null,null,{"$f":"D69*150","v":0},null,null,null,null,null,null,null,null,null,null,null,null,null,null,null,31,null,null,null,null,null,null,null,null,null,null,null,null,null,{"$f":"AH69*150","v":0}]
[]
[16,null,null,null,null,null,null,null,null,null,null,null,null,null,{"$f":"D71*150","v":0},null,null,null,null,null,null,null,null,null,null,null,null,null,null,null,"計",null,null,{"$f":"BQ58+BQ59","v":0},null,null,null,null,null,null,null,null,"人",null,{"$f":"SUM(O41:AB72)+SUM(AS41:BF70)","v":0},null,null,null,null,null,null,null,null,null,null,null,null,null,"円"]
[]
["備考",null,null,null,null,null,null,null,null,null,null,null,null,null,null,null,null,null,null,null,null,null,null,null,null,null,null,null,null,null,null,null,null,null,null,null,null,null,null,null,null,null,null,null,null,null,null,null,"登録\n番号"]

{"sheet":"控用","index":1,"n_rows":73,"n_cols":69,"rows_kept":73,"cut":false,"hidden":false,"merged":[[70,44,71,57],[70,58,71,59],[72,0,76,2],[72,3,76,47],[72,48,76,51],[72,52,76,59],[68,44,69,57],[68,58,69,59],[70,0,71,2],[70,3,71,11],[70,12,71,13],[70,14,71,27],[70,28,71,29],[70,30,71,32],[70,33,71,41],[70,42,71,43],[66,12,67,13],[66,14,67,27],[66,28,67,29],[66,30,67,32],[66,33,67,41],[66,42,67,43],[66,44,67,57],[66,58,67,59],[68,0,69,2],[68,3,69,11],[68,12,69,13],[68,14,69,27],[68,28,69,29],[68,30,69,32],[68,33,69,41],[68,42,69,43],[60,58,61,59],[61,63,67,66],[62,0,63,2],[62,3,63,11],[62,12,63,13],[62,14,63,27],[62,28,63,29],[62,30,63,32],[62,33,63,41],[62,42,63,43],[62,44,63,57],[62,58,63,59],[64,0,65,2],[64,3,65,11],[64,12,65,13],[64,14,65,27],[64,28,65,29],[64,30,65,32],[64,33,65,41],[64,42,65,43],[64,44,65,57],[64,58,65,59],[66,0,67,2],[66,3,67,11],[60,0,61,2],[60,3,61,11],[60,12,61,13],[60,14,61,27],[60,28,61,29],[60,30,61,32],[60,33,61,41],[60,42,61,43],[60,44,61,57],[56,58,57,59],[58,0,59,2],[58,3,59,11],[58,12,59,13],[58,14,59,27],[58,28,59,29],[58,30,59,32],[58,33,59,41],[58,42,59,43],[58,44,59,57],[58,58,59,59],[56,0,57,2],[56,3,57,11],[56,12,57,13],[56,14,57,27],[56,28,57,29],[56,30,57,32],[56,33,57,41],[56,42,57,43],[56,44,57,57],[52,58,53,59],[54,0,55,2],[54,3,55,11],[54,12,55,13],[54,14,55,27],[54,28,55,29],[54,30,55,32],[54,33,55,41],[54,42,55,43],[54,44,55,57],[54,58,55,59],[52,0,53,2],[52,3,53,11],[52,12,53,13],[52,14,53,27],[52,28,53,29],[52,30,53,32],[52,33,53,41],[52,42,53,43],[52,44,53,57],[48,58,49,59],[50,0,51,2],[50,3,51,11],[50,12,51,13],[50,14,51,27],[50,28,51,29],[50,30,51,32],[50,33,51,41],[50,42,51,43],[50,44,51,57],[50,58,51,59],[48,0,49,2],[48,3,49,11],[48,12,49,13],[48,14,49,27],[48,28,49,29],[48,30,49,32],[48,33,49,41],[48,42,49,43],[48,44,49,57],[44,58,45,59],[46,0,47,2],[46,3,47,11],[46,12,47,13],[46,14,47,27],[46,28,47,29],[46,30,47,32],[46,33,47,41],[46,42,47,43],[46,44,47,57],[46,58,47,59],[44,0,45,2],[44,3,45,11],[44,12,45,13],[44,14,45,27],[44,28,45,29],[44,30,45,32],[44,33,45,41],[44,42,45,43],[44,44,45,57],[40,58,41,59],[42,0,43,2],[42,3,43,11],[42,12,43,13],[42,14,43,27],[42,28,43,29],[42,30,43,32],[42,33,43,41],[42,42,43,43],[42,44,43,57],[42,58,43,59],[40,0,41,2],[40,3,41,11],[40,12,41,13],[40,14,41,27],[40,28,41,29],[40,30,41,32],[40,33,41,41],[40,42,41,43],[40,44,41,57],[35,14,37,20],[35,21,37,24],[35,25,37,26],[35,27,37,30],[35,31,37,50],[38,0,39,2],[38,3,39,13],[38,14,39,29],[38,30,39,32],[38,33,39,43],[38,44,39,59],[28,0,30,16],[28,17,30,39],[28,40,30,45],[28,46,30,59],[32,1,33,4],[32,5,33,10],[32,11,33,41],[25,0,27,9],[25,10,27,27],[25,28,27,29],[25,30,27,39],[25,40,27,57],[25,58,27,59],[8,43,10,44],[8,45,10,46],[21,0,24,9],[21,10,22,29],[21,30,24,39],[21,40,22,59],[23,10,24,29],[23,40,24,59],[11,1,12,58],[13,1,15,58],[17,0,20,9],[17,10,20,29],[17,30,20,39],[17,40,18,59],[19,40,20,59],[0,0,0,59],[0,60,8,62],[1,39,2,43],[1,44,2,46],[1,47,2,48],[1,49,2,51],[1,52,2,53],[1,54,2,56],[1,57,2,58],[3,1,4,13],[8,47,10,48],[8,49,10,50],[8,51,10,52],[8,53,10,54],[8,55,10,56],[8,57,10,58],[4,20,6,32],[4,33,6,58],[8,20,10,32],[8,33,10,34],[8,35,10,36],[8,37,10,38],[8,39,10,40],[8,41,10,42]]}
["入 湯 税 納 入 申 告 書",null,null,null,null,null,null,null,null,null,null,null,null,null,null,null,null,null,null,null,null,null,null,null,null,null,null,null,null,null,null,null,null,null,null,null,null,null,null,null,null,null,null,null,null,null,null,null,null,null,null,null,null,null,null,null,null,null,null,null,"（控　用）"]
[null,null,null,null,null,null,null,null,null,null,null,null,null,null,null,null,null,null,null,null,null,null,null,null,null,null,null,null,null,null,null,null,null,null,null,null,null,null,null,{"$f":"提出用!AN2","v":0},null,null,null,null,{"$f":"IF(提出用!AS2=\"\",\"\",提出用!AS2)","v":""},null,null,"年",null,{"$f":"IF(提出用!AX2=\"\",\"\",提出用!AX2)","v":""},null,null,"月",null,{"$f":"IF(提出用!BC2=\"\",\"\",提出用!BC2)","v":""},null,null,"日"]
[]
[null,"秋田県仙北市長　様"]
[null,null,null,null,null,null,null,null,null,null,null,null,null,null,null,null,null,null,null,null,"特別徴収義務者氏名",null,null,null,null,null,null,null,null,null,null,null,null,{"$f":"提出用!AH5","v":0}]
[]
[]
[]
[null,null,null,null,null,null,null,null,null,null,null,null,null,null,null,null,null,null,null,null,"個人番号又は法人番号",null,null,null,null,null,null,null,null,null,null,null,null,{"$f":"提出用!AH9","v":0},null,{"$f":"提出用!AJ9","v":0},null,{"$f":"提出用!AL9","v":0},null,{"$f":"提出用!AN9","v":0},null,{"$f":"提出用!AP9","v":0},null,{"$f":"提出用!AR9","v":0},null,{"$f":"提出用!AT9","v":0},null,{"$f":"提出用!AV9","v":0},null,{"$f":"提出用!AX9","v":0},null,{"$f":"提出用!AZ9","v":0},null,{"$f":"提出用!BB9","v":0},null,{"$f":"提出用!BD9","v":0},null,{"$f":"提出用!BF9","v":0}]
[]
[]
[null,"仙北市市税条例第137条第3項の規定により、入湯税の納入について申告します。"]
[]
[null,"※特別徴収義務者は、毎月末日までに前月１日から同月末日までに徴収すべき入湯税に係る課税標準額、税額その他必要な事項を記載した納入申告書を市長に提出し、及びその納入金を納入書によって納入しなければならない。"]
[]
[]
[]
["営業種類",null,null,null,null,null,null,null,null,null,{"$f":"提出用!K18","v":0},null,null,null,null,null,null,null,null,null,null,null,null,null,null,null,null,null,null,null,"施設名称　　　　　　　　　　　　　　　　　　　　　　　　　　　　　　　　　　　　　　　　　　　　　　　　　　　　　　　　　　　　　　　　　　　　　　　　　",null,null,null,null,null,null,null,null,null,{"$f":"提出用!AO18","v":0}]
[]
[null,null,null,null,null,null,null,null,null,null,null,null,null,null,null,null,null,null,null,null,null,null,null,null,null,null,null,null,null,null,null,null,null,null,null,null,null,null,null,null,{"$f":"提出用!AO20","v":0}]
[]
["営業所在地",null,null,null,null,null,null,null,null,null,{"$f":"提出用!K22","v":0},null,null,null,null,null,null,null,null,null,null,null,null,null,null,null,null,null,null,null,"営業主の\n住所氏名",null,null,null,null,null,null,null,null,null,{"$f":"提出用!AO22","v":0}]
[]
[null,null,null,null,null,null,null,null,null,null,{"$f":"提出用!K24","v":0},null,null,null,null,null,null,null,null,null,null,null,null,null,null,null,null,null,null,null,null,null,null,null,null,null,null,null,null,null,{"$f":"提出用!AO24","v":0}]
[]
["課税標準",null,null,null,null,null,null,null,null,null,{"$f":"IF(AH71=0,\"\",AH71)","v":""},null,null,null,null,null,null,null,null,null,null,null,null,null,null,null,null,null,"人",null,"税      額",null,null,null,null,null,null,null,null,null,{"$f":"IF(AS71=0,\"\",AS71)","v":""},null,null,null,null,null,null,null,null,null,null,null,null,null,null,null,null,null,"円"]
[]
[]
["この申告に応対する方の氏名",null,null,null,null,null,null,null,null,null,null,null,null,null,null,null,null,{"$f":"提出用!R29","v":0},null,null,null,null,null,null,null,null,null,null,null,null,null,null,null,null,null,null,null,null,null,null,"電話番号",null,null,null,null,null,{"$f":"提出用!AU29","v":0}]
[]
[]
[]
[null,"下記",null,null,null,null,null,null,null,null,null,"部分に数値を入力してください。"]
[]
[]
[null,null,null,null,null,null,null,null,null,null,null,null,null,null,{"$f":"提出用!O36","v":0},null,null,null,null,null,null,{"$f":"提出用!V36","v":0},null,null,null,"年",null,{"$f":"提出用!AB36","v":0},null,null,null,"月分入湯税納入明細書"]
[]
[]
["日",null,null,"課税標準",null,null,null,null,null,null,null,null,null,null,"税額",null,null,null,null,null,null,null,null,null,null,null,null,null,null,null,"日",null,null,"課税標準",null,null,null,null,null,null,null,null,null,null,"税額"]
[]
[1,null,null,{"$f":"提出用!D41","v":0},null,null,null,null,null,null,null,null,"人",null,{"$f":"D41*150","v":0},null,null,null,null,null,null,null,null,null,null,null,null,null,"円",null,17,null,null,{"$f":"提出用!AH41","v":0},null,null,null,null,null,null,null,null,"人",null,{"$f":"AH41*150","v":0},null,null,null,null,null,null,null,null,null,null,null,null,null,"円"]
[]
[2,null,null,{"$f":"提出用!D43","v":0},null,null,null,null,null,null,null,null,null,null,{"$f":"D43*150","v":0},null,null,null,null,null,null,null,null,null,null,null,null,null,null,null,18,null,null,{"$f":"提出用!AH43","v":0},null,null,null,null,null,null,null,null,null,null,{"$f":"AH43*150","v":0}]
[]
[3,null,null,{"$f":"提出用!D45","v":0},null,null,null,null,null,null,null,null,null,null,{"$f":"D45*150","v":0},null,null,null,null,null,null,null,null,null,null,null,null,null,null,null,19,null,null,{"$f":"提出用!AH45","v":0},null,null,null,null,null,null,null,null,null,null,{"$f":"AH45*150","v":0}]
[]
[4,null,null,{"$f":"提出用!D47","v":0},null,null,null,null,null,null,null,null,null,null,{"$f":"D47*150","v":0},null,null,null,null,null,null,null,null,null,null,null,null,null,null,null,20,null,null,{"$f":"提出用!AH47","v":0},null,null,null,null,null,null,null,null,null,null,{"$f":"AH47*150","v":0}]
[]
[5,null,null,{"$f":"提出用!D49","v":0},null,null,null,null,null,null,null,null,null,null,{"$f":"D49*150","v":0},null,null,null,null,null,null,null,null,null,null,null,null,null,null,null,21,null,null,{"$f":"提出用!AH49","v":0},null,null,null,null,null,null,null,null,null,null,{"$f":"AH49*150","v":0}]
[]
[6,null,null,{"$f":"提出用!D51","v":0},null,null,null,null,null,null,null,null,null,null,{"$f":"D51*150","v":0},null,null,null,null,null,null,null,null,null,null,null,null,null,null,null,22,null,null,{"$f":"提出用!AH51","v":0},null,null,null,null,null,null,null,null,null,null,{"$f":"AH51*150","v":0}]
[]
[7,null,null,{"$f":"提出用!D53","v":0},null,null,null,null,null,null,null,null,null,null,{"$f":"D53*150","v":0},null,null,null,null,null,null,null,null,null,null,null,null,null,null,null,23,null,null,{"$f":"提出用!AH53","v":0},null,null,null,null,null,null,null,null,null,null,{"$f":"AH53*150","v":0}]
[]
[8,null,null,{"$f":"提出用!D55","v":0},null,null,null,null,null,null,null,null,null,null,{"$f":"D55*150","v":0},null,null,null,null,null,null,null,null,null,null,null,null,null,null,null,24,null,null,{"$f":"提出用!AH55","v":0},null,null,null,null,null,null,null,null,null,null,{"$f":"AH55*150","v":0}]
[]
[9,null,null,{"$f":"提出用!D57","v":0},null,null,null,null,null,null,null,null,null,null,{"$f":"D57*150","v":0},null,null,null,null,null,null,null,null,null,null,null,null,null,null,null,25,null,null,{"$f":"提出用!AH57","v":0},null,null,null,null,null,null,null,null,null,null,{"$f":"AH57*150","v":0}]
[null,null,null,null,null,null,null,null,null,null,null,null,null,null,null,null,null,null,null,null,null,null,null,null,null,null,null,null,null,null,null,null,null,null,null,null,null,null,null,null,null,null,null,null,null,null,null,null,null,null,null,null,null,null,null,null,null,null,null,null,null,null,null,null,null,null,null,null,{"$f":"SUM(D41:L72)","v":0}]
[10,null,null,{"$f":"提出用!D59","v":0},null,null,null,null,null,null,null,null,null,null,{"$f":"D59*150","v":0},null,null,null,null,null,null,null,null,null,null,null,null,null,null,null,26,null,null,{"$f":"提出用!AH59","v":0},null,null,null,null,null,null,null,null,null,null,{"$f":"AH59*150","v":0},null,null,null,null,null,null,null,null,null,null,null,null,null,null,null,null,null,null,null,null,null,null,null,{"$f":"SUM(AH41:AP70)","v":0}]
[]
[11,null,null,{"$f":"提出用!D61","v":0},null,null,null,null,null,null,null,null,null,null,{"$f":"D61*150","v":0},null,null,null,null,null,null,null,null,null,null,null,null,null,null,null,27,null,null,{"$f":"提出用!AH61","v":0},null,null,null,null,null,null,null,null,null,null,{"$f":"AH61*150","v":0}]
[]
[12,null,null,{"$f":"提出用!D63","v":0},null,null,null,null,null,null,null,null,null,null,{"$f":"D63*150","v":0},null,null,null,null,null,null,null,null,null,null,null,null,null,null,null,28,null,null,{"$f":"提出用!AH63","v":0},null,null,null,null,null,null,null,null,null,null,{"$f":"AH63*150","v":0}]
[]
[13,null,null,{"$f":"提出用!D65","v":0},null,null,null,null,null,null,null,null,null,null,{"$f":"D65*150","v":0},null,null,null,null,null,null,null,null,null,null,null,null,null,null,null,29,null,null,{"$f":"提出用!AH65","v":0},null,null,null,null,null,null,null,null,null,null,{"$f":"AH65*150","v":0}]
[]
[14,null,null,{"$f":"提出用!D67","v":0},null,null,null,null,null,null,null,null,null,null,{"$f":"D67*150","v":0},null,null,null,null,null,null,null,null,null,null,null,null,null,null,null,30,null,null,{"$f":"提出用!AH67","v":0},null,null,null,null,null,null,null,null,null,null,{"$f":"AH67*150","v":0}]
[]
[15,null,null,{"$f":"提出用!D69","v":0},null,null,null,null,null,null,null,null,null,null,{"$f":"D69*150","v":0},null,null,null,null,null,null,null,null,null,null,null,null,null,null,null,31,null,null,{"$f":"提出用!AH69","v":0},null,null,null,null,null,null,null,null,null,null,{"$f":"AH69*150","v":0}]
[]
[16,null,null,{"$f":"提出用!D71","v":0},null,null,null,null,null,null,null,null,null,null,{"$f":"D71*150","v":0},null,null,null,null,null,null,null,null,null,null,null,null,null,null,null,"計",null,null,{"$f":"BQ58+BQ59","v":0},null,null,null,null,null,null,null,null,"人",null,{"$f":"SUM(O41:AB72)+SUM(AS41:BF70)","v":0},null,null,null,null,null,null,null,null,null,null,null,null,null,"円"]
[]
["備考",null,null,{"$f":"提出用!D73","v":0},null,null,null,null,null,null,null,null,null,null,null,null,null,null,null,null,null,null,null,null,null,null,null,null,null,null,null,null,null,null,null,null,null,null,null,null,null,null,null,null,null,null,null,null,"登録\n番号",null,null,null,{"$f":"提出用!BA73","v":0}]